BEGIN:VCALENDAR
PRODID:-//eluceo/ical//2.0/EN
VERSION:2.0
CALSCALE:GREGORIAN
BEGIN:VEVENT
UID:341a9b414c5858b3c923609aa814c8d6
DTSTAMP:20260424T023246Z
SUMMARY:Shabbat in the Round
DESCRIPTION:Shaw JCC of Akron\nCalendar\nhttps://shawjcc.org/calendar/shabb
 at-in-the-round-1767633416-508098\n\nFamily Shabbat Dinner\n\nRevere Road
DTSTART;TZID=America/New_York:20260213T173000
DTEND;TZID=America/New_York:20260213T193000
END:VEVENT
END:VCALENDAR
