BEGIN:VCALENDAR
PRODID:-//eluceo/ical//2.0/EN
VERSION:2.0
CALSCALE:GREGORIAN
BEGIN:VEVENT
UID:21f0cd5b1163def97b1333e1d0a9a63f
DTSTAMP:20260421T032336Z
SUMMARY:Shabbat in the Round
DESCRIPTION:Shaw JCC of Akron\nCalendar\nhttps://shawjcc.org/calendar/shabb
 at-in-the-round-1767633483-508099\n\nFamily Shabbat Dinner\n\nRevere Road
DTSTART;TZID=America/New_York:20260313T173000
DTEND;TZID=America/New_York:20260313T193000
END:VEVENT
END:VCALENDAR
