BEGIN:VCALENDAR
PRODID:-//eluceo/ical//2.0/EN
VERSION:2.0
CALSCALE:GREGORIAN
BEGIN:VEVENT
UID:ff7643318146bc30d13226d2627c1975
DTSTAMP:20260421T131714Z
SUMMARY:Shabbat in the Round-Anshe Sfard
DESCRIPTION:Shaw JCC of Akron\nCalendar\nhttps://shawjcc.org/calendar/shabb
 at-in-the-round-anshe-sfard-1625835301-384960\n\nFamily Shabbat at Anshe S
 fard
DTSTART;TZID=America/New_York:20220722T170000
DTEND;TZID=America/New_York:20220722T190000
END:VEVENT
END:VCALENDAR
