BEGIN:VCALENDAR
PRODID:-//eluceo/ical//2.0/EN
VERSION:2.0
CALSCALE:GREGORIAN
BEGIN:VEVENT
UID:07e3d9db59c2498adcc6c985d98c2b4d
DTSTAMP:20260421T060706Z
SUMMARY:Shabbat in the Round at Anshe Sfard
DESCRIPTION:Shaw JCC of Akron\nCalendar\nhttps://shawjcc.org/calendar/shabb
 at-in-the-round-at-anshe-sfard-1563896119-318711\n\nFamily Shabbat
DTSTART;TZID=America/New_York:20191018T173000
DTEND;TZID=America/New_York:20191018T193000
END:VEVENT
END:VCALENDAR
