BEGIN:VCALENDAR
PRODID:-//eluceo/ical//2.0/EN
VERSION:2.0
CALSCALE:GREGORIAN
BEGIN:VEVENT
UID:1029bd53486ee84a148888e72c819b38
DTSTAMP:20260425T160713Z
SUMMARY:Shabbat in the Round at Anshe Sfard
DESCRIPTION:Shaw JCC of Akron\nCalendar\nhttps://shawjcc.org/calendar/shabb
 at-in-the-round-at-anshe-sfard-1563896261-318713\n\nFamily Shabbat
DTSTART;TZID=America/New_York:20191213T173000
DTEND;TZID=America/New_York:20191213T193000
END:VEVENT
END:VCALENDAR
