BEGIN:VCALENDAR
PRODID:-//eluceo/ical//2.0/EN
VERSION:2.0
CALSCALE:GREGORIAN
BEGIN:VEVENT
UID:667e93db326c2176c29eaf71ad46b98d
DTSTAMP:20260420T135417Z
SUMMARY:Shabbat in the Round at Anshe Sfard
DESCRIPTION:Shaw JCC of Akron\nCalendar\nhttps://shawjcc.org/calendar/shabb
 at-in-the-round-at-anshe-sfard-1625765131-384902\n\nFamily Shabbat
DTSTART;TZID=America/New_York:20210820T173000
DTEND;TZID=America/New_York:20210820T193000
END:VEVENT
END:VCALENDAR
