BEGIN:VCALENDAR
PRODID:-//eluceo/ical//2.0/EN
VERSION:2.0
CALSCALE:GREGORIAN
BEGIN:VEVENT
UID:b8cbdb82b3c8ef4200299d42b59c6195
DTSTAMP:20260421T092436Z
SUMMARY:Shabbat in the Round February
DESCRIPTION:Shaw JCC of Akron\nCalendar\nhttps://shawjcc.org/calendar/shabb
 at-in-the-round-february-1543245986-294248\n\nFamily Shabbat at Anshe Sfar
 d
DTSTART;TZID=America/New_York:20190208T173000
DTEND;TZID=America/New_York:20190208T193000
END:VEVENT
END:VCALENDAR
