BEGIN:VCALENDAR
PRODID:-//eluceo/ical//2.0/EN
VERSION:2.0
CALSCALE:GREGORIAN
BEGIN:VEVENT
UID:8c54916b4fd5d845e6e1114fce6939e8
DTSTAMP:20260422T132846Z
SUMMARY:Shabbat in the Round
DESCRIPTION:Shaw JCC of Akron\nCalendar\nhttps://shawjcc.org/calendar/shabb
 at-in-the-round-june-219262\n\nShabbat in the Round
DTSTART;TZID=America/New_York:20170609T180000
DTEND;TZID=America/New_York:20170609T193000
END:VEVENT
END:VCALENDAR
