BEGIN:VCALENDAR
PRODID:-//eluceo/ical//2.0/EN
VERSION:2.0
CALSCALE:GREGORIAN
BEGIN:VEVENT
UID:5a32a9a89bcd9023b5acdc141394ad86
DTSTAMP:20260421T154432Z
SUMMARY:Shabbat Services with Community Shabbat Musician\, Joe Buchanan
DESCRIPTION:Shaw JCC of Akron\nCalendar\nhttps://shawjcc.org/calendar/shabb
 at-services-with-community-shabbat-musician-joe-buchanan-317358\n\nShabbat
  Services with Community Shabbat Musician\, Joe Buchanan. Joe will bring 
 his guitar and be a part of Beth El's morning prayers\, which will include
  the premiere of his new song co-written with Hazzan Matt Austerklein. He 
 will also give the d'var torah\, speaking about his moving experiences sin
 ging for the U.S. military and reflecting on the spiritual lives and longi
 ngs of our Jewish servicemen.\nKiddush lunch to follow.
DTSTART;TZID=America/New_York:20190824T091500
DTEND;TZID=America/New_York:20190824T120000
END:VEVENT
END:VCALENDAR
