BEGIN:VCALENDAR
PRODID:-//eluceo/ical//2.0/EN
VERSION:2.0
CALSCALE:GREGORIAN
BEGIN:VEVENT
UID:ac6eecb8bf6b63e3474419b7d863264f
DTSTAMP:20260423T080055Z
SUMMARY:Shabbat Shuvah Torah Study
DESCRIPTION:Shaw JCC of Akron\nCalendar\nhttps://shawjcc.org/calendar/shabb
 at-shuvah-243510\n\nJoin us for brunch and Torah study followed by a short
 en Shabbat Service.
DTSTART;TZID=America/New_York:20170923T103000
DTEND;TZID=America/New_York:20170923T120000
END:VEVENT
END:VCALENDAR
