BEGIN:VCALENDAR
PRODID:-//eluceo/ical//2.0/EN
VERSION:2.0
CALSCALE:GREGORIAN
BEGIN:VEVENT
UID:172162e872b29ed04ee2aea00e743516
DTSTAMP:20260422T075216Z
SUMMARY:Shabbat Shuvah Torah Study
DESCRIPTION:Shaw JCC of Akron\nCalendar\nhttps://shawjcc.org/calendar/shabb
 at-shuvah-torah-study-264577\n\nJoin us for brunch and Torah study in Beth
  El's Mercaz from 10:30am - noon.
DTSTART;TZID=America/New_York:20180915T103000
DTEND;TZID=America/New_York:20180915T120000
END:VEVENT
END:VCALENDAR
