BEGIN:VCALENDAR
PRODID:-//eluceo/ical//2.0/EN
VERSION:2.0
CALSCALE:GREGORIAN
BEGIN:VEVENT
UID:40663bef074115cd3504b7efa2e7b9e9
DTSTAMP:20260424T022613Z
SUMMARY:Shalom Sunday Campaign 2024
DESCRIPTION:Shaw JCC of Akron\nCalendar\nhttps://shawjcc.org/calendar/shalo
 m-sunday-campaign-2024-446689\n\n.
DTSTART;TZID=America/New_York:20231112T090000
DTEND;TZID=America/New_York:20231112T140000
END:VEVENT
END:VCALENDAR
