BEGIN:VCALENDAR
PRODID:-//eluceo/ical//2.0/EN
VERSION:2.0
CALSCALE:GREGORIAN
BEGIN:VEVENT
UID:76c0c14099f6a6501dc66e6c7e2563f4
DTSTAMP:20260424T212847Z
SUMMARY:Shavuot
DESCRIPTION:Shaw JCC of Akron\nCalendar\nhttps://shawjcc.org/calendar/shavu
 ot-311683\n\nShavuot
DTSTART;TZID=America/New_York:20200528T000000
DTEND;TZID=America/New_York:20200530T235959
END:VEVENT
END:VCALENDAR
