BEGIN:VCALENDAR
PRODID:-//eluceo/ical//2.0/EN
VERSION:2.0
CALSCALE:GREGORIAN
BEGIN:VEVENT
UID:b40021069214abc41f939aac5ec1daaf
DTSTAMP:20260423T073539Z
SUMMARY:Shavuot at Anshe Sfard
DESCRIPTION:Shaw JCC of Akron\nCalendar\nhttps://shawjcc.org/calendar/shavu
 ot-at-anshe-sfard-1529510273-274965\n\nShavuot Celebration at Anshe Sfard
DTSTART;TZID=America/New_York:20190609T100000
DTEND;TZID=America/New_York:20190609T120000
END:VEVENT
END:VCALENDAR
