BEGIN:VCALENDAR
PRODID:-//eluceo/ical//2.0/EN
VERSION:2.0
CALSCALE:GREGORIAN
BEGIN:VEVENT
UID:15b5e25aaab5b092f059473c63e944e8
DTSTAMP:20260423T132421Z
SUMMARY:Shavuot at Anshe Sfard
DESCRIPTION:Shaw JCC of Akron\nCalendar\nhttps://shawjcc.org/calendar/shavu
 ot-at-anshe-sfard-1561569351-315866\n\nShavuot at Anshe Sfard
DTSTART;TZID=America/New_York:20200529T173000
DTEND;TZID=America/New_York:20200529T193000
END:VEVENT
END:VCALENDAR
