BEGIN:VCALENDAR
PRODID:-//eluceo/ical//2.0/EN
VERSION:2.0
CALSCALE:GREGORIAN
BEGIN:VEVENT
UID:048f4871690030d9956c33e4e9e136fc
DTSTAMP:20260422T225837Z
SUMMARY:Shavuot Celebration & Dinner
DESCRIPTION:Shaw JCC of Akron\nCalendar\nhttps://shawjcc.org/calendar/shavu
 ot-celebration--dinner-1689777573-443427\n\nShavuot dairy meal and celebra
 tionf of the 10 commandments at Anshe Sfard
DTSTART;TZID=America/New_York:20240611T173000
DTEND;TZID=America/New_York:20240611T193000
END:VEVENT
END:VCALENDAR
