BEGIN:VCALENDAR
PRODID:-//eluceo/ical//2.0/EN
VERSION:2.0
CALSCALE:GREGORIAN
BEGIN:VEVENT
UID:5af81beba056eee2b2d9d9a78bfc8f07
DTSTAMP:20260420T122138Z
SUMMARY:Shavuot Celebration at Anshe Sfard
DESCRIPTION:Shaw JCC of Akron\nCalendar\nhttps://shawjcc.org/calendar/shavu
 ot-celebration-at-anshe-sfard-1625834969-384953\n\nShavuot at Anshe Sfard
DTSTART;TZID=America/New_York:20220605T100000
DTEND;TZID=America/New_York:20220605T130000
END:VEVENT
END:VCALENDAR
