BEGIN:VCALENDAR
PRODID:-//eluceo/ical//2.0/EN
VERSION:2.0
CALSCALE:GREGORIAN
BEGIN:VEVENT
UID:e5efc7ab8066eb03aaea79bf7b3a9319
DTSTAMP:20260425T135842Z
SUMMARY:Shaw JCC 26th Annual Golf Outing
DESCRIPTION:Shaw JCC of Akron\nCalendar\nhttps://shawjcc.org/calendar/shaw-
 jcc-26th-annual-golf-outing-315736\n\nRSVP deadline is Friday\, Aug. 26.\n
 \nLearn more and register at shawjcc.org/golf-outing or call 330-835-0025.
DTSTART;TZID=America/New_York:20190909T103000
DTEND;TZID=America/New_York:20190909T153000
END:VEVENT
END:VCALENDAR
