BEGIN:VCALENDAR
PRODID:-//eluceo/ical//2.0/EN
VERSION:2.0
CALSCALE:GREGORIAN
BEGIN:VEVENT
UID:5ce01ee9462340e3a383b6e2e66bfcb0
DTSTAMP:20260421T211440Z
SUMMARY:Shaw JCC Board Meeting
DESCRIPTION:Shaw JCC of Akron\nCalendar\nhttps://shawjcc.org/calendar/shaw-
 jcc-board-meeting-1466714471-196314\n\n.
DTSTART;TZID=America/New_York:20170123T190000
DTEND;TZID=America/New_York:20170123T203000
END:VEVENT
END:VCALENDAR
