BEGIN:VCALENDAR
PRODID:-//eluceo/ical//2.0/EN
VERSION:2.0
CALSCALE:GREGORIAN
BEGIN:VEVENT
UID:de16757d6d06f6328084d661fe5ebc51
DTSTAMP:20260422T120756Z
SUMMARY:Sherbondy Hill Cemetery clean up
DESCRIPTION:Shaw JCC of Akron\nCalendar\nhttps://shawjcc.org/calendar/sherb
 ondy-hill-cemetery-clean-up-1502122580-242066\n\nThe Jewish Community Boar
 d of Akron owns four Jewish cemeteries in the area. The largest one is She
 rbondy Hill Cemetery\, off White Street.  When JCBA was deeded the cemete
 ry\, only enough money was given from the burial society’s endowment to 
 mow the grounds.  There are not enough funds to pay for cleanup of fallen
  trees and debris and weed removal.\n\nJoin members of the community at Sh
 erbondy Hill Cemetery to clean up debris and maintain the dignity of those
  buried there. Please RSVP to ...
DTSTART;TZID=America/New_York:20170910T093000
DTEND;TZID=America/New_York:20170910T110000
END:VEVENT
END:VCALENDAR
