BEGIN:VCALENDAR
PRODID:-//eluceo/ical//2.0/EN
VERSION:2.0
CALSCALE:GREGORIAN
BEGIN:VEVENT
UID:bb035af4b8c49bab8bd34010d598fbfc
DTSTAMP:20260421T212115Z
SUMMARY:Shlichim Lunch & Learn for Staff
DESCRIPTION:Shaw JCC of Akron\nCalendar\nhttps://shawjcc.org/calendar/shlic
 him-ll-for-staff-1524761412-269117\n\nCome hear about Israel\, each time f
 rom a different perspective\, while enjoying Efrat's delicious food!
DTSTART;TZID=America/New_York:20180510T120000
DTEND;TZID=America/New_York:20180510T130000
END:VEVENT
END:VCALENDAR
