BEGIN:VCALENDAR
PRODID:-//eluceo/ical//2.0/EN
VERSION:2.0
CALSCALE:GREGORIAN
BEGIN:VEVENT
UID:c3fe4157584d86cf94f556ed706778b7
DTSTAMP:20260422T021758Z
SUMMARY:Shlichim Lunch & Learn
DESCRIPTION:Shaw JCC of Akron\nCalendar\nhttps://shawjcc.org/calendar/shlic
 him-lunch-7-learn-1539289694-289485\n\n.
DTSTART;TZID=America/New_York:20181030T120000
DTEND;TZID=America/New_York:20181030T130000
END:VEVENT
END:VCALENDAR
