BEGIN:VCALENDAR
PRODID:-//eluceo/ical//2.0/EN
VERSION:2.0
CALSCALE:GREGORIAN
BEGIN:VEVENT
UID:a277c77400f194387699332ed9387b6d
DTSTAMP:20260421T070234Z
SUMMARY:Shlichim Lunch and Learn for Staff
DESCRIPTION:Shaw JCC of Akron\nCalendar\nhttps://shawjcc.org/calendar/shlic
 him-lunch-and-learn-for-staff-1539397487-289614\n\nEver wondered what Wall
 a means? Or why "Eating movies" is something you do in Israel?\nCome to he
 ar about Israeli slang while having lunch!\n\nPlease RSVP to Mor - shlichi
 m@jewishakron.org
DTSTART;TZID=America/New_York:20190214T000000
DTEND;TZID=America/New_York:20190214T130000
END:VEVENT
END:VCALENDAR
