BEGIN:VCALENDAR
PRODID:-//eluceo/ical//2.0/EN
VERSION:2.0
CALSCALE:GREGORIAN
BEGIN:VEVENT
UID:6e0add57a6833ea66d2c00c4fddce589
DTSTAMP:20260419T202532Z
SUMMARY:Shlichim Program- Travel with Shay - North Israel
DESCRIPTION:Shaw JCC of Akron\nCalendar\nhttps://shawjcc.org/calendar/shlic
 him-program-1469654619-201233\n\nLet's explore the Galilee! Take in the be
 autiful scenery through video and photos. Hear about Haifa\, the Sea of Ga
 lilee and more in this region.\n\nFREE & Open to all\, desserts and hot dr
 inks are served.  Please RSVP to Shlichim@jewishakron.org 
DTSTART;TZID=America/New_York:20170105T183000
DTEND;TZID=America/New_York:20170105T200000
END:VEVENT
END:VCALENDAR
