BEGIN:VCALENDAR
PRODID:-//eluceo/ical//2.0/EN
VERSION:2.0
CALSCALE:GREGORIAN
BEGIN:VEVENT
UID:746a8f5920fb0c0b99353d3961546e4c
DTSTAMP:20260419T135036Z
SUMMARY:Shlichim Program - Israeli Movie Night - Atomic Falafel
DESCRIPTION:Shaw JCC of Akron\nCalendar\nhttps://shawjcc.org/calendar/shlic
 him-program-1469654706-201235\n\nTwo girls from nuclear towns in Israel an
 d Iran spill their countries most valuable secrets on Facebook while tryin
 g to prevent a nuclear crisis. \n\nWritten by Dror Shaul. Trailer: https
 ://www.youtube.com/watch?v=HuuWrYcdYko \n\nFREE & Open to all\, desserts\
 , Popcorn and hot drinks are served.  Please RSVP to Shlichim@jewishakro
 n.org
DTSTART;TZID=America/New_York:20170117T183000
DTEND;TZID=America/New_York:20170117T200000
END:VEVENT
END:VCALENDAR
