BEGIN:VCALENDAR
PRODID:-//eluceo/ical//2.0/EN
VERSION:2.0
CALSCALE:GREGORIAN
BEGIN:VEVENT
UID:8dee89a0b7bf79e13e14c120b099c9c2
DTSTAMP:20260420T041118Z
SUMMARY:Shlichim Program - Travel with Shay - South Israel
DESCRIPTION:Shaw JCC of Akron\nCalendar\nhttps://shawjcc.org/calendar/shlic
 him-program-1469655720-201239\n\nThrough visuals and stories\, we'll head 
 outdoors in the Negev region. Explore Be'er Sheba\, Masada\, the Dead Sea
 \, desert and more on this "trip".\n\nFREE & Open to all\, desserts and ho
 t drinks are served.  Please RSVP to Shay at Shlichim@jewishakron.org 
DTSTART;TZID=America/New_York:20170307T183000
DTEND;TZID=America/New_York:20170307T200000
END:VEVENT
END:VCALENDAR
