BEGIN:VCALENDAR
PRODID:-//eluceo/ical//2.0/EN
VERSION:2.0
CALSCALE:GREGORIAN
BEGIN:VEVENT
UID:e87b5f45f2a354231020c0d2195e4276
DTSTAMP:20260423T164751Z
SUMMARY:Shofar Factory & High Holiday Fair
DESCRIPTION:Shaw JCC of Akron\nCalendar\nhttps://shawjcc.org/calendar/shofa
 r-factory-241846\n\nChildren ages kindergarten through sixth grade are inv
 ited to this high holiday fair\, where they can build their own shofar for
  the new year. Cost is $10 per child.\n\nPartly funded by a grant from the
  Savage Fund of the Jewish Community Board of Akron. Event sponsors includ
 e: Anshe Sfard\, Beth El Congregation\, The Lippman School\, Shaw JCC\, an
 d Temple Israel.
DTSTART;TZID=America/New_York:20170917T100000
DTEND;TZID=America/New_York:20170917T120000
END:VEVENT
END:VCALENDAR
