BEGIN:VCALENDAR
PRODID:-//eluceo/ical//2.0/EN
VERSION:2.0
CALSCALE:GREGORIAN
BEGIN:VEVENT
UID:276bd04f0f3b0060bac0ae8061d101b6
DTSTAMP:20260423T093618Z
SUMMARY:Simchat Torah
DESCRIPTION:Shaw JCC of Akron\nCalendar\nhttps://shawjcc.org/calendar/simch
 at-torah-1495729885-232290\n\nSimchat Torah Family Event
DTSTART;TZID=America/New_York:20171012T190000
DTEND;TZID=America/New_York:20171012T210000
END:VEVENT
END:VCALENDAR
