BEGIN:VCALENDAR
PRODID:-//eluceo/ical//2.0/EN
VERSION:2.0
CALSCALE:GREGORIAN
BEGIN:VEVENT
UID:c86213c4e73570df6ef29bfcb62e0cc5
DTSTAMP:20260422T224806Z
SUMMARY:Simchat Torah Celebration
DESCRIPTION:Shaw JCC of Akron\nCalendar\nhttps://shawjcc.org/calendar/simch
 at-torah-celebration-1529077548-274515\n\nSimchat Torah Celebration at Ans
 he Sfard
DTSTART;TZID=America/New_York:20181001T190000
DTEND;TZID=America/New_York:20181001T220000
END:VEVENT
END:VCALENDAR
