BEGIN:VCALENDAR
PRODID:-//eluceo/ical//2.0/EN
VERSION:2.0
CALSCALE:GREGORIAN
BEGIN:VEVENT
UID:f836d9f36d9e0139b5302fee1dc8d657
DTSTAMP:20260422T004312Z
SUMMARY:Simchat Torah Celebration At Anshe Sfard
DESCRIPTION:Shaw JCC of Akron\nCalendar\nhttps://shawjcc.org/calendar/simch
 at-torah-celebration-at-anshe-sfard-1501079416-240283\n\nSimhat Torah Cele
 bration
DTSTART;TZID=America/New_York:20171012T170000
DTEND;TZID=America/New_York:20171012T190000
END:VEVENT
END:VCALENDAR
