BEGIN:VCALENDAR
PRODID:-//eluceo/ical//2.0/EN
VERSION:2.0
CALSCALE:GREGORIAN
BEGIN:VEVENT
UID:27bc33b7ecdf3d0e84fab7e2a82f0c1a
DTSTAMP:20260420T225947Z
SUMMARY:Simchat Torah Celebration in memory of Rabbi Mendy Sasonkin
DESCRIPTION:Shaw JCC of Akron\nCalendar\nhttps://shawjcc.org/calendar/simch
 at-torah-celebration-in-memory-of-rabbi-mendy-sasonkin-1625765208-384903\n
 \nAnnual Simchat Torah Celebration
DTSTART;TZID=America/New_York:20210928T183000
DTEND;TZID=America/New_York:20210928T203000
END:VEVENT
END:VCALENDAR
