BEGIN:VCALENDAR
PRODID:-//eluceo/ical//2.0/EN
VERSION:2.0
CALSCALE:GREGORIAN
BEGIN:VEVENT
UID:a7d3a36fc99f6aabe40db75f64516dae
DTSTAMP:20260422T161825Z
SUMMARY:Simchat Torah Service & Consecration with Klezmer Band
DESCRIPTION:Shaw JCC of Akron\nCalendar\nhttps://shawjcc.org/calendar/simch
 at-torah-service--consecration-with-klezmer-band-1566333592-322683\n\nSimc
 hat Torah Service and Consecration with the Steve Greenman Klezmer Band.
DTSTART;TZID=America/New_York:20191020T183000
DTEND;TZID=America/New_York:20191020T203000
END:VEVENT
END:VCALENDAR
