BEGIN:VCALENDAR
PRODID:-//eluceo/ical//2.0/EN
VERSION:2.0
CALSCALE:GREGORIAN
BEGIN:VEVENT
UID:133e6d4375e476144b19f0ac2a53c5b7
DTSTAMP:20260422T164952Z
SUMMARY:Simchat Torah Services
DESCRIPTION:Shaw JCC of Akron\nCalendar\nhttps://shawjcc.org/calendar/simch
 at-torah-services-247599\n\nSimchat Torah Mornign Service
DTSTART;TZID=America/New_York:20171013T091500
DTEND;TZID=America/New_York:20171013T120000
END:VEVENT
END:VCALENDAR
