BEGIN:VCALENDAR
PRODID:-//eluceo/ical//2.0/EN
VERSION:2.0
CALSCALE:GREGORIAN
BEGIN:VEVENT
UID:2a6c85e77a63647a185e1d3879e4e804
DTSTAMP:20260425T101726Z
SUMMARY:Sisterhood Hanukkah Dinner
DESCRIPTION:Shaw JCC of Akron\nCalendar\nhttps://shawjcc.org/calendar/siste
 rhood-hanukkah-dinner-2017-229672\n\nAnnual Sisterhood Hanukkah Dinner.  
 Cost TBD.
DTSTART;TZID=America/New_York:20171215T181500
DTEND;TZID=America/New_York:20171215T203000
END:VEVENT
END:VCALENDAR
