BEGIN:VCALENDAR
PRODID:-//eluceo/ical//2.0/EN
VERSION:2.0
CALSCALE:GREGORIAN
BEGIN:VEVENT
UID:0859b711043cceae51e420e61f0e4c06
DTSTAMP:20260422T205050Z
SUMMARY:Sisterhood Shabbat
DESCRIPTION:Shaw JCC of Akron\nCalendar\nhttps://shawjcc.org/calendar/siste
 rhood-shabbat-315852\n\nSisterhood Shabbat at Beth El
DTSTART;TZID=America/New_York:20191207T091500
DTEND;TZID=America/New_York:20191207T130000
END:VEVENT
END:VCALENDAR
