BEGIN:VCALENDAR
PRODID:-//eluceo/ical//2.0/EN
VERSION:2.0
CALSCALE:GREGORIAN
BEGIN:VEVENT
UID:98c67ff78754cf08e4fd72369b03c87c
DTSTAMP:20260421T120229Z
SUMMARY:Situation in Ukraine - Speaker
DESCRIPTION:Shaw JCC of Akron\nCalendar\nhttps://shawjcc.org/calendar/situa
 tion-in-ukraine-speaker-421887\n\nJoin us for a presentation about the sit
 uation in Ukraine and the impact on Israel.
DTSTART;TZID=America/New_York:20221205T193000
DTEND;TZID=America/New_York:20221205T203000
END:VEVENT
END:VCALENDAR
