BEGIN:VCALENDAR
PRODID:-//eluceo/ical//2.0/EN
VERSION:2.0
CALSCALE:GREGORIAN
BEGIN:VEVENT
UID:b63b70c1c95866b3732724740a52d9f0
DTSTAMP:20260425T154335Z
SUMMARY:Small Town Series: Medina
DESCRIPTION:Shaw JCC of Akron\nCalendar\nhttps://shawjcc.org/calendar/small
 -town-series-medina-338077\n\nClimb on board our little bus and enjoy a tr
 ip to a nearby venue. Please RSVP to Julie LeFever so she can reserve a lu
 nch table where applicable at 330-835-0027. All trips are from 9:30 am to 
 1:30 pm.\n\nMEDINA FRI.\, FEB. 14 - 9:30 AM -1 PM\n\nBuehler’s Fresh Foo
 d Market and lunch (on your own) in their Café. A great place to shop for
  fresh\, unique foods and goods! M/$5 G/$8
DTSTART;TZID=America/New_York:20200214T093000
DTEND;TZID=America/New_York:20200214T130000
END:VEVENT
END:VCALENDAR
