BEGIN:VCALENDAR
PRODID:-//eluceo/ical//2.0/EN
VERSION:2.0
CALSCALE:GREGORIAN
BEGIN:VEVENT
UID:be566012ac94f8a517eed2c79592a027
DTSTAMP:20260421T212046Z
SUMMARY:Social Action Shabbat
DESCRIPTION:Shaw JCC of Akron\nCalendar\nhttps://shawjcc.org/calendar/socia
 l-action-shabbat-1575491623-335934\n\nTemple Israel's Social Action Commit
 tee will be arranging a memorable Shabbat service. Guest Speaker TBD.
DTSTART;TZID=America/New_York:20200117T181500
DTEND;TZID=America/New_York:20200117T193000
END:VEVENT
END:VCALENDAR
