BEGIN:VCALENDAR
PRODID:-//eluceo/ical//2.0/EN
VERSION:2.0
CALSCALE:GREGORIAN
BEGIN:VEVENT
UID:517c15a09e4ca4f49bf641bad425ac33
DTSTAMP:20260425T152856Z
SUMMARY:Social Action Symposium
DESCRIPTION:Shaw JCC of Akron\nCalendar\nhttps://shawjcc.org/calendar/socia
 l-action-symposium-226400\n\nSocial Action Symposium for Temple members.
DTSTART;TZID=America/New_York:20170625T140000
DTEND;TZID=America/New_York:20170625T160000
END:VEVENT
END:VCALENDAR
