BEGIN:VCALENDAR
PRODID:-//eluceo/ical//2.0/EN
VERSION:2.0
CALSCALE:GREGORIAN
BEGIN:VEVENT
UID:5f2a6f85b5d186808275ec5d615afdbf
DTSTAMP:20260424T005956Z
SUMMARY:Sonja Roy-Bat Mitzvah Anshe Sfard
DESCRIPTION:Shaw JCC of Akron\nCalendar\nhttps://shawjcc.org/calendar/sonja
 -roy-bat-mitzvah-anshe-sfard-204277\n\nSonja Roy
DTSTART;TZID=America/New_York:20170604T103000
DTEND;TZID=America/New_York:20170604T233000
END:VEVENT
END:VCALENDAR
