BEGIN:VCALENDAR
PRODID:-//eluceo/ical//2.0/EN
VERSION:2.0
CALSCALE:GREGORIAN
BEGIN:VEVENT
UID:4bd5f03333b48bea2b4965be5a6c3c28
DTSTAMP:20260421T055713Z
SUMMARY:Sparking the Jewish Story - The Objects That Define Us
DESCRIPTION:Shaw JCC of Akron\nCalendar\nhttps://shawjcc.org/calendar/spark
 ing-the-jewish-story---the-objects-that-define-us-1629140423-388029\n\nIn 
 partnership with the Jewish Book Council and Reboot\, this JFest event bri
 ngs Laura Arnold Leibman\, author of the National Jewish Book Award-winnin
 g “The Art of the Jewish Family\,” into conversation with Reboot’s 
 “What Would You Bring” initiative\, for a broad exploration of Jewish 
 storytelling and resilience.
DTSTART;TZID=America/New_York:20211024T200000
DTEND;TZID=America/New_York:20211024T210000
END:VEVENT
END:VCALENDAR
