BEGIN:VCALENDAR
PRODID:-//eluceo/ical//2.0/EN
VERSION:2.0
CALSCALE:GREGORIAN
BEGIN:VEVENT
UID:f32263db85d293e40212b9e6c4d3d2a5
DTSTAMP:20260422T095125Z
SUMMARY:Special Evening with Rabbi Belzer
DESCRIPTION:Shaw JCC of Akron\nCalendar\nhttps://shawjcc.org/calendar/speci
 al-evening-with-rabbi-belzer-198167\n\nRabbi Arnold Mark Belzer is the Ra
 bbi Emeritus of Congregation Mickve Israel in Savannah\, Georgia. He studi
 ed at Hunter College and Iona College\, where he received his B.A. in Hist
 ory. He was ordained rabbi and received B.H.L.\, M.A.H.L\, and D.D. degree
 s from the Hebrew Union College-Jewish Institute of Religion in New York. 
 In 1995 Rabbi Belzer brought to Savannah a photo exhibit: The Jews of Kaif
 eng\, China. He is a co-founder of the Mastery Foundation (an internationa
 l\, interfaith organizat...
DTSTART;TZID=America/New_York:20170507T160000
DTEND;TZID=America/New_York:20170507T200000
END:VEVENT
END:VCALENDAR
