BEGIN:VCALENDAR
PRODID:-//eluceo/ical//2.0/EN
VERSION:2.0
CALSCALE:GREGORIAN
BEGIN:VEVENT
UID:bf0ae3df4cb536e109f8b547922e0dd3
DTSTAMP:20260421T024519Z
SUMMARY:Spring into Torah
DESCRIPTION:Shaw JCC of Akron\nCalendar\nhttps://shawjcc.org/calendar/sprin
 g-into-torah-295492\n\nSpring into Torah - a 10 Session course cluminating
  in reading Torah and/or Haftarh\n\nLearn or refresh your Torah & Haftarah
  Skills\n\nReengage with Text & Tradiditon\n\nConnect with others in Learn
 ing\n\nExplore Prayer & the Siddur\n\nRekindle and Renew
DTSTART;TZID=America/New_York:20190313T190000
DTEND;TZID=America/New_York:20190313T210000
END:VEVENT
END:VCALENDAR
