BEGIN:VCALENDAR
PRODID:-//eluceo/ical//2.0/EN
VERSION:2.0
CALSCALE:GREGORIAN
BEGIN:VEVENT
UID:a53cf168499bf2cdefc336dc6daff748
DTSTAMP:20260420T201010Z
SUMMARY:Spring JLI Session 3
DESCRIPTION:Shaw JCC of Akron\nCalendar\nhttps://shawjcc.org/calendar/sprin
 g-jli-session-3-1478024967-211799\n\nSpring Jewish Leadership Initiative S
 ession 3
DTSTART;TZID=America/New_York:20170423T120000
DTEND;TZID=America/New_York:20170423T150000
END:VEVENT
END:VCALENDAR
