BEGIN:VCALENDAR
PRODID:-//eluceo/ical//2.0/EN
VERSION:2.0
CALSCALE:GREGORIAN
BEGIN:VEVENT
UID:8dc1440f07ff5fce87a724bd91b7feda
DTSTAMP:20260421T115545Z
SUMMARY:Spring JLI Session 5
DESCRIPTION:Shaw JCC of Akron\nCalendar\nhttps://shawjcc.org/calendar/sprin
 g-jli-session-5-1478025127-211803\n\nSpring Jewish Leadership Initiative S
 ession 5
DTSTART;TZID=America/New_York:20170604T170000
DTEND;TZID=America/New_York:20170604T200000
END:VEVENT
END:VCALENDAR
