BEGIN:VCALENDAR
PRODID:-//eluceo/ical//2.0/EN
VERSION:2.0
CALSCALE:GREGORIAN
BEGIN:VEVENT
UID:6b1350d444f22ab49b502703fd6b6723
DTSTAMP:20260420T083013Z
SUMMARY:Spring Welcome Walk
DESCRIPTION:Shaw JCC of Akron\nCalendar\nhttps://shawjcc.org/calendar/sprin
 g-welcome-walk-1488426675-223910\n\nWelcome the "official" start of Spring
  with a walk through the beautiful Bath Nature Preserve. This 400+ acre pa
 rk has a variety of trails through marshes\, meadows\, and woods. Then we'
 ll head down the road to Gasoline Alley for food and drinks. Appetizers ar
 e on us!
DTSTART;TZID=America/New_York:20170326T140000
DTEND;TZID=America/New_York:20170326T160000
END:VEVENT
END:VCALENDAR
