BEGIN:VCALENDAR
PRODID:-//eluceo/ical//2.0/EN
VERSION:2.0
CALSCALE:GREGORIAN
BEGIN:VEVENT
UID:29fe754ee1edb536f989ee2a9bb2c6ec
DTSTAMP:20260422T234133Z
SUMMARY:Staff lunch and farewell to David Koch
DESCRIPTION:Shaw JCC of Akron\nCalendar\nhttps://shawjcc.org/calendar/staff
 -lunch-and-farewell-to-david-koch-1542745568-294064\n\nCampus wide staff l
 unch open house to say goodbye to David Koch.
DTSTART;TZID=America/New_York:20181218T113000
DTEND;TZID=America/New_York:20181218T130000
END:VEVENT
END:VCALENDAR
