BEGIN:VCALENDAR
PRODID:-//eluceo/ical//2.0/EN
VERSION:2.0
CALSCALE:GREGORIAN
BEGIN:VEVENT
UID:823150fe7352fb7d5e437a7d30b210ae
DTSTAMP:20260422T143332Z
SUMMARY:Sukkot Services
DESCRIPTION:Shaw JCC of Akron\nCalendar\nhttps://shawjcc.org/calendar/sukko
 t-services-247595\n\nSukkot Service with the Northern Cheyenne
DTSTART;TZID=America/New_York:20171006T091500
DTEND;TZID=America/New_York:20171006T120000
END:VEVENT
END:VCALENDAR
