BEGIN:VCALENDAR
PRODID:-//eluceo/ical//2.0/EN
VERSION:2.0
CALSCALE:GREGORIAN
BEGIN:VEVENT
UID:eeb2807137f5a9f6e7a15f633a9c35a7
DTSTAMP:20260423T024615Z
SUMMARY:Sunday Fun Day at the J
DESCRIPTION:Shaw JCC of Akron\nCalendar\nhttps://shawjcc.org/calendar/sunda
 y-fun-day-at-the-j-1654184463-408455\n\n.
DTSTART;TZID=America/New_York:20220710T110000
DTEND;TZID=America/New_York:20220710T140000
END:VEVENT
END:VCALENDAR
