BEGIN:VCALENDAR
PRODID:-//eluceo/ical//2.0/EN
VERSION:2.0
CALSCALE:GREGORIAN
BEGIN:VEVENT
UID:c9c28a71b679059f3a7026b33229f751
DTSTAMP:20260422T235318Z
SUMMARY:Taylor Domokos Bat Mitzvah
DESCRIPTION:Shaw JCC of Akron\nCalendar\nhttps://shawjcc.org/calendar/taylo
 r-domokos-bat-mitzvah-1634843933-392183\n\nThe Bat Mitzvah of Taylor Domok
 os will take place at Beth El Congregation on Saturday\, June 18\, 2022.
DTSTART;TZID=America/New_York:20220618T090000
DTEND;TZID=America/New_York:20220618T130000
END:VEVENT
END:VCALENDAR
